BEGIN:VCALENDAR
VERSION:2.0
PRODID:icalendar-ruby
CALSCALE:GREGORIAN
METHOD:PUBLISH
BEGIN:VEVENT
DTSTAMP:20260422T223233Z
UID:48-1137092@mountisabaptist.com.au
DTSTART:20260915T090000Z
DTEND:20260915T100000Z
CLASS:PUBLIC
CREATED:20260423T062819
DESCRIPTION:Men's Bible Study\nFor more information\, please contact Trysta
 n Cotterill on 0438 995 135
LAST-MODIFIED:20260423T062819
LOCATION:Mount Isa Baptist Church Auditorium
SUMMARY:Men's Bible Study
URL;VALUE=URI:https://www.mountisabaptist.com.au/events/mens-bible-study/20
 26-09-15
ATTACH;FILENAME=Men’s Bible Study.png;FMTTYPE=image/png:https://dq5pwpg1q
 8ru0.cloudfront.net/2025/12/29/05/02/46/9776dd43-d524-4254-a44e-dc47ed6407
 37/Men%E2%80%99s%20Bible%20Study.png
END:VEVENT
END:VCALENDAR
